BEGIN:VCALENDAR
VERSION:2.0
PRODID:-//jEvents 2.0 for Joomla//EN
CALSCALE:GREGORIAN
METHOD:PUBLISH
BEGIN:VTIMEZONE
TZID:Europe/Berlin
BEGIN:STANDARD
DTSTART:20210204T000000
RDATE:20210328T030000
TZOFFSETFROM:+0200
TZOFFSETTO:+0100
TZNAME:Europe/Berlin CET
END:STANDARD
BEGIN:STANDARD
DTSTART:20211031T020000
RDATE:20220327T030000
TZOFFSETFROM:+0200
TZOFFSETTO:+0100
TZNAME:Europe/Berlin CET
END:STANDARD
BEGIN:STANDARD
DTSTART:20221030T020000
RDATE:20230326T030000
TZOFFSETFROM:+0200
TZOFFSETTO:+0100
TZNAME:Europe/Berlin CET
END:STANDARD
BEGIN:DAYLIGHT
DTSTART:20210328T030000
RDATE:20211031T020000
TZOFFSETFROM:+0100
TZOFFSETTO:+0200
TZNAME:Europe/Berlin CEST
END:DAYLIGHT
BEGIN:DAYLIGHT
DTSTART:20220327T030000
RDATE:20221030T020000
TZOFFSETFROM:+0100
TZOFFSETTO:+0200
TZNAME:Europe/Berlin CEST
END:DAYLIGHT
END:VTIMEZONE
BEGIN:VEVENT
UID:3c124b664846fac8f6faa52a74e57cc9
CATEGORIES:Wettkampfsport, MU18, FU18
CREATED:20211221T112623
SUMMARY:ABSAGE HEM U18 
LOCATION:65604 Elz\, Hadamarer Str. 13\, Turnhalle der Erlenbachschule
DESCRIPTION;ENCODING=QUOTED-PRINTABLE:<p>ABSAGE HEM U18</p><p>Nicht qualifizierend für die SWDEM</p><p>&nbsp;</p>
CONTACT:Alena Hartard und Stefan Teucher
DTSTAMP:20260420T075618Z
DTSTART;TZID=Europe/Berlin;VALUE=DATE:20220205
DTEND;TZID=Europe/Berlin;VALUE=DATE:20220206
SEQUENCE:0
TRANSP:OPAQUE
END:VEVENT
END:VCALENDAR