BEGIN:VCALENDAR
VERSION:2.0
PRODID:-//jEvents 2.0 for Joomla//EN
CALSCALE:GREGORIAN
METHOD:PUBLISH
BEGIN:VTIMEZONE
TZID:Europe/Berlin
BEGIN:STANDARD
DTSTART:20210117T000000
RDATE:20210328T030000
TZOFFSETFROM:+0200
TZOFFSETTO:+0100
TZNAME:Europe/Berlin CET
END:STANDARD
BEGIN:STANDARD
DTSTART:20211031T020000
RDATE:20220327T030000
TZOFFSETFROM:+0200
TZOFFSETTO:+0100
TZNAME:Europe/Berlin CET
END:STANDARD
BEGIN:STANDARD
DTSTART:20221030T020000
RDATE:20230326T030000
TZOFFSETFROM:+0200
TZOFFSETTO:+0100
TZNAME:Europe/Berlin CET
END:STANDARD
BEGIN:DAYLIGHT
DTSTART:20210328T030000
RDATE:20211031T020000
TZOFFSETFROM:+0100
TZOFFSETTO:+0200
TZNAME:Europe/Berlin CEST
END:DAYLIGHT
BEGIN:DAYLIGHT
DTSTART:20220327T030000
RDATE:20221030T020000
TZOFFSETFROM:+0100
TZOFFSETTO:+0200
TZNAME:Europe/Berlin CEST
END:DAYLIGHT
END:VTIMEZONE
BEGIN:VEVENT
UID:7eaefe95ab061a2dc7dc895d3b5f76a3
CATEGORIES:MU13, MU15, MU18, FU13, FU15, FU18
CREATED:20211221T112411
SUMMARY:Landesrandori 1 verlegt nach Rüsselsheim
LOCATION:Rüsselsheim
DESCRIPTION;ENCODING=QUOTED-PRINTABLE:\n\nJugend&nbsp;LanRan1 Rüsselsheim Großsporthalle\n\n\n&nbsp;U13/U15 von 1
 7.30 Uhr - 19.00 Uhr\n\n\nab U18 von 19.00 Uhr - 21.00 Uhr\n
DTSTAMP:20260422T115322Z
DTSTART;TZID=Europe/Berlin;VALUE=DATE:20220118
DTEND;TZID=Europe/Berlin;VALUE=DATE:20220119
SEQUENCE:0
TRANSP:OPAQUE
END:VEVENT
END:VCALENDAR