BEGIN:VCALENDAR
VERSION:2.0
PRODID:-//jEvents 2.0 for Joomla//EN
CALSCALE:GREGORIAN
METHOD:PUBLISH
BEGIN:VTIMEZONE
TZID:Europe/Berlin
BEGIN:STANDARD
DTSTART:20210211T090000
RDATE:20210328T030000
TZOFFSETFROM:+0200
TZOFFSETTO:+0100
TZNAME:Europe/Berlin CET
END:STANDARD
BEGIN:STANDARD
DTSTART:20211031T020000
RDATE:20220327T030000
TZOFFSETFROM:+0200
TZOFFSETTO:+0100
TZNAME:Europe/Berlin CET
END:STANDARD
BEGIN:STANDARD
DTSTART:20221030T020000
RDATE:20230326T030000
TZOFFSETFROM:+0200
TZOFFSETTO:+0100
TZNAME:Europe/Berlin CET
END:STANDARD
BEGIN:DAYLIGHT
DTSTART:20210328T030000
RDATE:20211031T020000
TZOFFSETFROM:+0100
TZOFFSETTO:+0200
TZNAME:Europe/Berlin CEST
END:DAYLIGHT
BEGIN:DAYLIGHT
DTSTART:20220327T030000
RDATE:20221030T020000
TZOFFSETFROM:+0100
TZOFFSETTO:+0200
TZNAME:Europe/Berlin CEST
END:DAYLIGHT
END:VTIMEZONE
BEGIN:VEVENT
UID:f2898e35712c04e4bc4895359194e9fe
CATEGORIES:Prüfungswesen
CREATED:20211215T115012
SUMMARY:Lehrgang zur Vorbereitung 1.Kyu 2. Teil
LOCATION:65232 Taunusstein\, Silberbachhalle\, Am Marktplatz
DESCRIPTION;ENCODING=QUOTED-PRINTABLE:<p>Vorkenntnisse zur Vorbereitung auf den 1. Kyu 2. Teil</p><p>Anmeldung bi
 s 06. Februar 2022 per Email an <span id="cloakf98a93a073e343e42b2d607723e9
 0aa3">Diese E-Mail-Adresse ist vor Spambots geschützt! Zur Anzeige muss Jav
 aScript eingeschaltet sein!</span><script type='text/javascript'>
				docum
 ent.getElementById('cloakf98a93a073e343e42b2d607723e90aa3').innerHTML = '';
 
				var prefix = '&#109;a' + 'i&#108;' + '&#116;o';
				var path = 'hr' + 
 'ef' + '=';
				var addyf98a93a073e343e42b2d607723e90aa3 = 'b&#105;rk' + '&
 #64;';
				addyf98a93a073e343e42b2d607723e90aa3 = addyf98a93a073e343e42b2d6
 07723e90aa3 + 'h&#101;ss&#101;nj&#117;d&#111;' + '&#46;' + 'd&#101;';
				v
 ar addy_textf98a93a073e343e42b2d607723e90aa3 = 'b&#105;rk' + '&#64;' + 'h&#
 101;ss&#101;nj&#117;d&#111;' + '&#46;' + 'd&#101;';document.getElementById(
 'cloakf98a93a073e343e42b2d607723e90aa3').innerHTML += '<a ' + path + '\'' +
  prefix + ':' + addyf98a93a073e343e42b2d607723e90aa3 + '\'>'+addy_textf98a9
 3a073e343e42b2d607723e90aa3+'<\/a>';
		</script> (Bezirk Taunus), unter fol
 genden Angaben: <strong>Vor- und Nachname, Verein, Kyu-Grad</strong></p>
CONTACT:Matthias Birk, birk(at)hessenjudo.de
DTSTAMP:20260420T075603Z
DTSTART;TZID=Europe/Berlin:20220212T090000
DTEND;TZID=Europe/Berlin:20220212T130000
SEQUENCE:0
TRANSP:OPAQUE
END:VEVENT
END:VCALENDAR