BEGIN:VCALENDAR
VERSION:2.0
PRODID:-//jEvents 2.0 for Joomla//EN
CALSCALE:GREGORIAN
METHOD:PUBLISH
BEGIN:VTIMEZONE
TZID:Europe/Berlin
BEGIN:STANDARD
DTSTART:20210218T000000
RDATE:20210328T030000
TZOFFSETFROM:+0200
TZOFFSETTO:+0100
TZNAME:Europe/Berlin CET
END:STANDARD
BEGIN:STANDARD
DTSTART:20211031T020000
RDATE:20220327T030000
TZOFFSETFROM:+0200
TZOFFSETTO:+0100
TZNAME:Europe/Berlin CET
END:STANDARD
BEGIN:STANDARD
DTSTART:20221030T020000
RDATE:20230326T030000
TZOFFSETFROM:+0200
TZOFFSETTO:+0100
TZNAME:Europe/Berlin CET
END:STANDARD
BEGIN:DAYLIGHT
DTSTART:20210328T030000
RDATE:20211031T020000
TZOFFSETFROM:+0100
TZOFFSETTO:+0200
TZNAME:Europe/Berlin CEST
END:DAYLIGHT
BEGIN:DAYLIGHT
DTSTART:20220327T030000
RDATE:20221030T020000
TZOFFSETFROM:+0100
TZOFFSETTO:+0200
TZNAME:Europe/Berlin CEST
END:DAYLIGHT
END:VTIMEZONE
BEGIN:VEVENT
UID:8dd91cf3606fa48620b44ef8a378fe13
CATEGORIES:MU21, FU21
CREATED:20211029T125725
SUMMARY:abgesagt: Bundessichtungs-Turnier
LOCATION:Strausberg
DESCRIPTION;ENCODING=QUOTED-PRINTABLE:<p>Bundessichtungs-Turnier U21 mw: Absage vom DJB gemäß DJB Hompage</p><p><
 a href="https://www.judobund.de/termine/#410696">https://www.judobund.de/te
 rmine/#410696</a></p><p>&nbsp;</p>
CONTACT:Sportwarte
DTSTAMP:20260420T075618Z
DTSTART;TZID=Europe/Berlin;VALUE=DATE:20220219
DTEND;TZID=Europe/Berlin;VALUE=DATE:20220221
SEQUENCE:0
TRANSP:OPAQUE
END:VEVENT
END:VCALENDAR