BEGIN:VCALENDAR
VERSION:2.0
PRODID:-//jEvents 2.0 for Joomla//EN
CALSCALE:GREGORIAN
METHOD:PUBLISH
BEGIN:VTIMEZONE
TZID:Europe/Berlin
BEGIN:STANDARD
DTSTART:20210128T000000
RDATE:20210328T030000
TZOFFSETFROM:+0200
TZOFFSETTO:+0100
TZNAME:Europe/Berlin CET
END:STANDARD
BEGIN:STANDARD
DTSTART:20211031T020000
RDATE:20220327T030000
TZOFFSETFROM:+0200
TZOFFSETTO:+0100
TZNAME:Europe/Berlin CET
END:STANDARD
BEGIN:STANDARD
DTSTART:20221030T020000
RDATE:20230326T030000
TZOFFSETFROM:+0200
TZOFFSETTO:+0100
TZNAME:Europe/Berlin CET
END:STANDARD
BEGIN:DAYLIGHT
DTSTART:20210328T030000
RDATE:20211031T020000
TZOFFSETFROM:+0100
TZOFFSETTO:+0200
TZNAME:Europe/Berlin CEST
END:DAYLIGHT
BEGIN:DAYLIGHT
DTSTART:20220327T030000
RDATE:20221030T020000
TZOFFSETFROM:+0100
TZOFFSETTO:+0200
TZNAME:Europe/Berlin CEST
END:DAYLIGHT
END:VTIMEZONE
BEGIN:VEVENT
UID:f621a022fae31d064420bf747c843c05
CATEGORIES:Männer, Frauen
CREATED:20211019T123242
SUMMARY:Grand Prix Odivelas/POR
LOCATION:Odivelas/POR
DESCRIPTION;ENCODING=QUOTED-PRINTABLE:<p>Grand Prix Odivelas/POR MF</p>
DTSTAMP:20260422T131813Z
DTSTART;TZID=Europe/Berlin;VALUE=DATE:20220129
DTEND;TZID=Europe/Berlin;VALUE=DATE:20220131
SEQUENCE:0
TRANSP:OPAQUE
END:VEVENT
END:VCALENDAR