BEGIN:VCALENDAR
VERSION:2.0
PRODID:-//jEvents 2.0 for Joomla//EN
CALSCALE:GREGORIAN
METHOD:PUBLISH
BEGIN:VTIMEZONE
TZID:Europe/Berlin
BEGIN:STANDARD
DTSTART:20201120T100000
RDATE:20210328T030000
TZOFFSETFROM:+0200
TZOFFSETTO:+0100
TZNAME:Europe/Berlin CET
END:STANDARD
BEGIN:STANDARD
DTSTART:20211031T020000
RDATE:20220327T030000
TZOFFSETFROM:+0200
TZOFFSETTO:+0100
TZNAME:Europe/Berlin CET
END:STANDARD
BEGIN:STANDARD
DTSTART:20221030T020000
RDATE:20230326T030000
TZOFFSETFROM:+0200
TZOFFSETTO:+0100
TZNAME:Europe/Berlin CET
END:STANDARD
BEGIN:DAYLIGHT
DTSTART:20210328T030000
RDATE:20211031T020000
TZOFFSETFROM:+0100
TZOFFSETTO:+0200
TZNAME:Europe/Berlin CEST
END:DAYLIGHT
BEGIN:DAYLIGHT
DTSTART:20220327T030000
RDATE:20221030T020000
TZOFFSETFROM:+0100
TZOFFSETTO:+0200
TZNAME:Europe/Berlin CEST
END:DAYLIGHT
END:VTIMEZONE
BEGIN:VEVENT
UID:ccde25e41a5c08ea184366ff6e64c057
CATEGORIES:Prüfungswesen
CREATED:20210728T095008
SUMMARY:Dan-Vorbereitungslehrgang in Mühlheim
LOCATION:63165 Mühlheim\, Anton-Dey-Str. 60\, Städtisches Sportzentrum
DESCRIPTION;ENCODING=QUOTED-PRINTABLE:<p>Anmeldung nur über doo: <span style="color: #0000ff;"><a href="https://d
 oo.net/veranstaltung/81373/buchung" style="color: #0000ff;">https://doo.net
 /veranstaltung/81373/buchung</a></span></p><p>Die Teilnehmerzahl ist begren
 zt.</p><p>Sportliche Leitung: Wolfgang Geißler</p><p><span style="color: #0
 000ff;"><a href="images/Dan_LG_Mühlheim_3.pdf" style="color: #0000ff;">Auss
 chreibung</a></span></p>
CONTACT:Michaelo Walter- Referent Prüfungswesen - walter(at)hessenjudo.de
DTSTAMP:20260424T112219Z
DTSTART;TZID=Europe/Berlin:20211121T100000
DTEND;TZID=Europe/Berlin:20211121T140000
SEQUENCE:0
TRANSP:OPAQUE
END:VEVENT
END:VCALENDAR