BEGIN:VCALENDAR
VERSION:2.0
PRODID:-//jEvents 2.0 for Joomla//EN
CALSCALE:GREGORIAN
METHOD:PUBLISH
BEGIN:VTIMEZONE
TZID:Europe/Berlin
BEGIN:STANDARD
DTSTART:20201203T000000
RDATE:20210328T030000
TZOFFSETFROM:+0200
TZOFFSETTO:+0100
TZNAME:Europe/Berlin CET
END:STANDARD
BEGIN:STANDARD
DTSTART:20211031T020000
RDATE:20220327T030000
TZOFFSETFROM:+0200
TZOFFSETTO:+0100
TZNAME:Europe/Berlin CET
END:STANDARD
BEGIN:STANDARD
DTSTART:20221030T020000
RDATE:20230326T030000
TZOFFSETFROM:+0200
TZOFFSETTO:+0100
TZNAME:Europe/Berlin CET
END:STANDARD
BEGIN:DAYLIGHT
DTSTART:20210328T030000
RDATE:20211031T020000
TZOFFSETFROM:+0100
TZOFFSETTO:+0200
TZNAME:Europe/Berlin CEST
END:DAYLIGHT
BEGIN:DAYLIGHT
DTSTART:20220327T030000
RDATE:20221030T020000
TZOFFSETFROM:+0100
TZOFFSETTO:+0200
TZNAME:Europe/Berlin CEST
END:DAYLIGHT
END:VTIMEZONE
BEGIN:VEVENT
UID:ea951e3b5f07ba1afbfd0885919a7d7e
CATEGORIES:Wettkampfsport, Männer
CREATED:20210708T170221
SUMMARY:Bezirksliga 2021 Nord-Ost und Süd-West
LOCATION:64668 Rimbach\, Odenwaldhalle Rimbach\, Kleiststr. 11\, 
DESCRIPTION;ENCODING=QUOTED-PRINTABLE:\n\nBezirksliga 2021 Nord/Ost und Süd/West\n\n\nAusschreibung\n\n\n&nbsp;\n
CONTACT:Ralf Bacher, Ligaobmann
DTSTAMP:20260422T184530Z
DTSTART;TZID=Europe/Berlin;VALUE=DATE:20211204
DTEND;TZID=Europe/Berlin;VALUE=DATE:20211205
SEQUENCE:0
TRANSP:OPAQUE
END:VEVENT
END:VCALENDAR